BEGIN:VCALENDAR
VERSION:2.0
PRODID:-//#BigRoundCityBand - ECPv6.15.20//NONSGML v1.0//EN
CALSCALE:GREGORIAN
METHOD:PUBLISH
X-WR-CALNAME:#BigRoundCityBand
X-ORIGINAL-URL:https://www.bigroundcityband.de
X-WR-CALDESC:Veranstaltungen für #BigRoundCityBand
REFRESH-INTERVAL;VALUE=DURATION:PT1H
X-Robots-Tag:noindex
X-PUBLISHED-TTL:PT1H
BEGIN:VTIMEZONE
TZID:UTC
BEGIN:STANDARD
TZOFFSETFROM:+0000
TZOFFSETTO:+0000
TZNAME:UTC
DTSTART:20220101T000000
END:STANDARD
END:VTIMEZONE
BEGIN:VEVENT
DTSTART;TZID=UTC:20230204T213000
DTEND;TZID=UTC:20230204T220000
DTSTAMP:20260425T141104
CREATED:20231022T183259Z
LAST-MODIFIED:20231022T183259Z
UID:1902-1675546200-1675548000@www.bigroundcityband.de
SUMMARY:Babenhäuser Fastnachtssitzung 2023 - Carnevalverein Babenhausen e.V.
DESCRIPTION:
URL:https://www.bigroundcityband.de/gig/babenhaeuser-fastnachtssitzung-2023-carnevalverein-babenhausen-e-v/
LOCATION:Babenhausen Stadthalle\, Bürgermeister-Rühl-Straße 6\, Babenhausen\, Hessen\, 64832\, Deutschland
CATEGORIES:Live
ATTACH;FMTTYPE=image/png:https://www.bigroundcityband.de/wp-content/uploads/2023/10/babenhausen-carneval-e1697999440333.png
END:VEVENT
END:VCALENDAR